BEGIN:VCALENDAR
VERSION:2.0
PRODID:-//The Ditch - ECPv6.15.20//NONSGML v1.0//EN
CALSCALE:GREGORIAN
METHOD:PUBLISH
X-WR-CALNAME:The Ditch
X-ORIGINAL-URL:http://www.chb.hostfront.co.uk
X-WR-CALDESC:Events for The Ditch
REFRESH-INTERVAL;VALUE=DURATION:PT1H
X-Robots-Tag:noindex
X-PUBLISHED-TTL:PT1H
BEGIN:VTIMEZONE
TZID:UTC
BEGIN:STANDARD
TZOFFSETFROM:+0000
TZOFFSETTO:+0000
TZNAME:UTC
DTSTART:20250101T000000
END:STANDARD
END:VTIMEZONE
BEGIN:VTIMEZONE
TZID:Europe/London
BEGIN:DAYLIGHT
TZOFFSETFROM:+0000
TZOFFSETTO:+0100
TZNAME:BST
DTSTART:20250330T010000
END:DAYLIGHT
BEGIN:STANDARD
TZOFFSETFROM:+0100
TZOFFSETTO:+0000
TZNAME:GMT
DTSTART:20251026T010000
END:STANDARD
BEGIN:DAYLIGHT
TZOFFSETFROM:+0000
TZOFFSETTO:+0100
TZNAME:BST
DTSTART:20260329T010000
END:DAYLIGHT
BEGIN:STANDARD
TZOFFSETFROM:+0100
TZOFFSETTO:+0000
TZNAME:GMT
DTSTART:20261025T010000
END:STANDARD
BEGIN:DAYLIGHT
TZOFFSETFROM:+0000
TZOFFSETTO:+0100
TZNAME:BST
DTSTART:20270328T010000
END:DAYLIGHT
BEGIN:STANDARD
TZOFFSETFROM:+0100
TZOFFSETTO:+0000
TZNAME:GMT
DTSTART:20271031T010000
END:STANDARD
END:VTIMEZONE
BEGIN:VEVENT
DTSTART;TZID=UTC:20260430T200000
DTEND;TZID=UTC:20260430T220000
DTSTAMP:20260426T040255
CREATED:20240614T210615Z
LAST-MODIFIED:20260327T203601Z
UID:10000191-1777579200-1777586400@www.chb.hostfront.co.uk
SUMMARY:Quiz Night Thursday
DESCRIPTION:Join them every Thursday from 8 PM for our popular Oast House Quiz Night — a fun and friendly evening that brings out your competitive streak. \n\n\n£1 per person to play \n\n\nTeams of up to 6 \n\n\nCash prize for the winners \n\n\nIt’s the perfect midweek night out\, whether you’re a seasoned quizzer or just in it for the laughs. \nBasket meals and bar snacks are available throughout the evening\, so you can enjoy a bite while you play. Tables fill up fast\, so we recommend reserving in advance — contact us to book your spot and avoid missing out.
URL:http://www.chb.hostfront.co.uk/event/oast-house-quiz-night/2026-04-30/
LOCATION:The Oast House\, Paper Mill Drive\, Redditch\, Worcestershire\, B98 8JQ\, United Kingdom
CATEGORIES:Community Events
ATTACH;FMTTYPE=image/png:http://www.chb.hostfront.co.uk/wp-content/uploads/2025/06/25398747.png
END:VEVENT
BEGIN:VEVENT
DTSTART;TZID=Europe/London:20260502T200000
DTEND;TZID=Europe/London:20260502T230000
DTSTAMP:20260426T040255
CREATED:20240614T210500Z
LAST-MODIFIED:20260327T203518Z
UID:10000547-1777752000-1777762800@www.chb.hostfront.co.uk
SUMMARY:Live Music Saturday
DESCRIPTION:Live music every Saturday evening at The Oast House. Check their Facebook page for the latest gigs.
URL:http://www.chb.hostfront.co.uk/event/live-music-saturday/2026-05-02/
LOCATION:The Oast House\, Paper Mill Drive\, Redditch\, Worcestershire\, B98 8JQ\, United Kingdom
CATEGORIES:Arts & Entertainment
ATTACH;FMTTYPE=image/png:http://www.chb.hostfront.co.uk/wp-content/uploads/2025/06/25398747.png
END:VEVENT
END:VCALENDAR